View In:
ArcGIS JavaScript
ArcGIS Online Map Viewer
ArcGIS Earth
ArcMap
View Footprint In:
ArcGIS Online Map Viewer
Service Description: test_service_imgs_pub1
Name: test_service_imgs_pub1
Description:
Single Fused Map Cache: false
Extent:
XMin: -756529.4259588495
YMin: -1058780.4546609127
XMax: -722556.8580137136
YMax: -1034134.467868939
Spatial Reference: 102067
(5514)
Initial Extent:
XMin: -756529.4259588495
YMin: -1058780.4546609127
XMax: -722556.8580137136
YMax: -1034134.467868939
Spatial Reference: 102067
(5514)
Full Extent:
XMin: -756529.4259588495
YMin: -1058780.4546609127
XMax: -722556.8580137136
YMax: -1034134.467868939
Spatial Reference: 102067
(5514)
Pixel Size X: 39.687579375158734
Pixel Size Y: 39.68757937515894
Band Count: 3
Pixel Type: U8
RasterFunction Infos: {"rasterFunctionInfos": [{
"name": "None",
"description": "",
"help": ""
}]}
Mensuration Capabilities: Basic
Has Histograms: true
Has Colormap: false
Has Multi Dimensions : false
Rendering Rule:
Min Scale: 0
Max Scale: 0
Copyright Text:
Service Data Type: esriImageServiceDataTypeRGB
Min Values: 85, 255, 0
Max Values: 163, 255, 115
Mean Values: 161.4651129005479, 255, 112.73702543029498
Standard Deviation Values: 10.833546109786475, 0, 15.972535931095514
Object ID Field:
Fields:
None
Default Mosaic Method: Center
Allowed Mosaic Methods:
SortField:
SortValue: null
Mosaic Operator: First
Default Compression Quality: 75
Default Resampling Method: Bilinear
Max Record Count: null
Max Image Height: 4100
Max Image Width: 15000
Max Download Image Count: null
Max Mosaic Image Count: null
Allow Raster Function: true
Allow Copy: true
Allow Analysis: true
Allow Compute TiePoints: false
Supports Statistics: false
Supports Advanced Queries: false
Use StandardizedQueries: true
Raster Type Infos:
Name: Raster Dataset
Description: Supports all ArcGIS Raster Datasets
Help:
Has Raster Attribute Table: false
Edit Fields Info: null
Ownership Based AccessControl For Rasters: null
Child Resources:
Info
Histograms
Statistics
Key Properties
Legend
Raster Function Infos
Supported Operations:
Export Image
Identify
Measure
Compute Histograms
Compute Statistics Histograms
Get Samples
Compute Class Statistics
Query Boundary
Compute Pixel Location
Compute Angles
Validate
Project