{
 "currentVersion": 10.91,
 "serviceDescription": "test_service_imgs_pub1",
 "name": "test_service_imgs_pub1",
 "description": "",
 "extent": {
  "xmin": -756529.4259588495,
  "ymin": -1058780.4546609127,
  "xmax": -722556.8580137136,
  "ymax": -1034134.467868939,
  "spatialReference": {
   "wkid": 102067,
   "latestWkid": 5514
  }
 },
 "initialExtent": {
  "xmin": -756529.4259588495,
  "ymin": -1058780.4546609127,
  "xmax": -722556.8580137136,
  "ymax": -1034134.467868939,
  "spatialReference": {
   "wkid": 102067,
   "latestWkid": 5514
  }
 },
 "fullExtent": {
  "xmin": -756529.4259588495,
  "ymin": -1058780.4546609127,
  "xmax": -722556.8580137136,
  "ymax": -1034134.467868939,
  "spatialReference": {
   "wkid": 102067,
   "latestWkid": 5514
  }
 },
 "hasMultidimensions": false,
 "pixelSizeX": 39.687579375158734,
 "pixelSizeY": 39.68757937515894,
 "datasetFormat": "FGDBR",
 "uncompressedSize": 1592865,
 "blockWidth": 128,
 "blockHeight": 128,
 "compressionType": "LZ77",
 "bandNames": [
  "Band_1",
  "Band_2",
  "Band_3"
 ],
 "allowCopy": true,
 "allowAnalysis": true,
 "bandCount": 3,
 "pixelType": "U8",
 "minPixelSize": 0,
 "maxPixelSize": 0,
 "copyrightText": "",
 "serviceDataType": "esriImageServiceDataTypeRGB",
 "serviceSourceType": "esriImageServiceSourceTypeDataset",
 "minValues": [
  85,
  255,
  0
 ],
 "maxValues": [
  163,
  255,
  115
 ],
 "meanValues": [
  161.4651129005479,
  255,
  112.73702543029498
 ],
 "stdvValues": [
  10.833546109786475,
  0,
  15.972535931095514
 ],
 "objectIdField": "",
 "fields": [],
 "capabilities": "Image,Metadata,Mensuration",
 "defaultMosaicMethod": "Center",
 "allowedMosaicMethods": "",
 "sortField": "",
 "sortValue": null,
 "sortAscending": true,
 "mosaicOperator": "First",
 "defaultCompressionQuality": 75,
 "defaultResamplingMethod": "Bilinear",
 "maxImageHeight": 4100,
 "maxImageWidth": 15000,
 "allowRasterFunction": true,
 "rasterFunctionInfos": [
  {
   "name": "None",
   "description": "",
   "help": ""
  }
 ],
 "rasterTypeInfos": [
  {
   "name": "Raster Dataset",
   "description": "Supports all ArcGIS Raster Datasets",
   "help": ""
  }
 ],
 "mensurationCapabilities": "Basic",
 "hasHistograms": true,
 "hasColormap": false,
 "hasRasterAttributeTable": false,
 "minScale": 0,
 "maxScale": 0,
 "exportTilesAllowed": false,
 "supportsStatistics": false,
 "supportsAdvancedQueries": false,
 "editFieldsInfo": null,
 "ownershipBasedAccessControlForRasters": null,
 "allowComputeTiePoints": false,
 "useStandardizedQueries": true,
 "advancedQueryCapabilities": {
  "useStandardizedQueries": true,
  "supportsStatistics": false,
  "supportsOrderBy": false,
  "supportsDistinct": false,
  "supportsPagination": false
 },
 "spatialReference": {
  "wkid": 102067,
  "latestWkid": 5514
 }
}
