View In:
ArcGIS JavaScript
ArcGIS Online Map Viewer
ArcGIS Earth
ArcMap
View Footprint In:
ArcGIS Online Map Viewer
Service Description: Inženýrskogeologické mapy A - geologické poměry
Name: geo/ig_mapy_geologicke_pomery
Description: Inženýrskogeologické mapy A - geologické poměry
Single Fused Map Cache: false
Extent:
XMin: -755000
YMin: -1058000
XMax: -722500
YMax: -1034000
Spatial Reference: 102067
(5514)
Initial Extent:
XMin: -755000
YMin: -1058000
XMax: -722500
YMax: -1034000
Spatial Reference: 102067
(5514)
Full Extent:
XMin: -755000
YMin: -1058000
XMax: -722500
YMax: -1034000
Spatial Reference: 102067
(5514)
Pixel Size X: 0.5
Pixel Size Y: 0.5
Band Count: 3
Pixel Type: U8
RasterFunction Infos: {"rasterFunctionInfos": [{
"name": "None",
"description": "A No-Op Function.",
"help": ""
}]}
Mensuration Capabilities: None
Has Histograms: true
Has Colormap: false
Has Multi Dimensions : false
Rendering Rule:
Min Scale: 0
Max Scale: 0
Copyright Text:
Service Data Type: esriImageServiceDataTypeRGB
Min Values: 80, 78, 67
Max Values: 255, 255, 255
Mean Values: 221.53597538080982, 225.15033755678664, 196.9467845599995
Standard Deviation Values: 31.485555991027084, 27.00914284404124, 43.142529029934515
Object ID Field: OBJECTID
Fields:
-
OBJECTID
(
type: esriFieldTypeOID, alias: OBJECTID
)
-
NAME
(
type: esriFieldTypeString, alias: NAME, length: 200
)
-
MINPS
(
type: esriFieldTypeDouble, alias: MINPS
)
-
MAXPS
(
type: esriFieldTypeDouble, alias: MAXPS
)
-
LOWPS
(
type: esriFieldTypeDouble, alias: LOWPS
)
-
HIGHPS
(
type: esriFieldTypeDouble, alias: HIGHPS
)
-
CATEGORY
(
type: esriFieldTypeInteger, alias: CATEGORY
,
Coded Values:
[0: Unknown]
,
[1: Primary]
,
[2: Overview]
, ...6 more...
)
-
TAG
(
type: esriFieldTypeString, alias: TAG, length: 100
)
-
GROUPNAME
(
type: esriFieldTypeString, alias: GROUPNAME, length: 100
)
-
PRODUCTNAME
(
type: esriFieldTypeString, alias: PRODUCTNAME, length: 100
)
-
CENTERX
(
type: esriFieldTypeDouble, alias: CENTERX
)
-
CENTERY
(
type: esriFieldTypeDouble, alias: CENTERY
)
-
ZORDER
(
type: esriFieldTypeInteger, alias: ZORDER
)
-
SHAPE
(
type: esriFieldTypeGeometry, alias: SHAPE
)
Default Mosaic Method: Northwest
Allowed Mosaic Methods: NorthWest,Center,LockRaster,ByAttribute,Nadir,Viewpoint,Seamline,None
SortField:
SortValue: null
Mosaic Operator: First
Default Compression Quality: 75
Default Resampling Method: Bilinear
Max Record Count: 1000
Max Image Height: 4100
Max Image Width: 15000
Max Download Image Count: 20
Max Mosaic Image Count: 20
Allow Raster Function: true
Allow Copy: null
Allow Analysis: null
Allow Compute TiePoints: false
Supports Statistics: true
Supports Advanced Queries: true
Use StandardizedQueries: true
Raster Type Infos:
Name: Raster Dataset
Description: Supports all ArcGIS Raster Datasets
Help:
Has Raster Attribute Table: false
Edit Fields Info: null
Ownership Based AccessControl For Rasters: null
Child Resources:
Info
Histograms
Key Properties
Legend
Raster Function Infos
Supported Operations:
Export Image
Query
Identify
Compute Histograms
Compute Statistics Histograms
Get Samples
Compute Class Statistics
Query Boundary
Compute Pixel Location
Compute Angles
Validate
Project