Územně analytické podklady hl. m. Prahy pro obec. Výkres O.3 - Záměry na provedení změn v území<\/SPAN><\/P><\/DIV><\/DIV><\/DIV>",
"name": "uap/uap_o3_zamery_na_provedeni_zmen",
"description": "Územně analytické podklady hl. m. Prahy pro obec. Výkres O.3 - Záměry na provedení změn v území<\/SPAN><\/P><\/DIV><\/DIV><\/DIV>",
"extent": {
"xmin": -756658.75,
"ymin": -1058883.75,
"xmax": -722391.25,
"ymax": -1034016.25,
"spatialReference": {
"wkid": 102067,
"latestWkid": 5514
}
},
"initialExtent": {
"xmin": -756658.75,
"ymin": -1058883.75,
"xmax": -722391.25,
"ymax": -1034016.25,
"spatialReference": {
"wkid": 102067,
"latestWkid": 5514
}
},
"fullExtent": {
"xmin": -756658.75,
"ymin": -1058883.75,
"xmax": -722391.25,
"ymax": -1034016.25,
"spatialReference": {
"wkid": 102067,
"latestWkid": 5514
}
},
"sortableFields": "MinPS,MaxPS,LowPS,HighPS,CenterX,CenterY,ZOrder",
"bandCount": 3,
"pixelType": "U8",
"minValues": [
0,
0,
0
],
"maxValues": [
255,
255,
255
],
"meanValues": [
207.35025130826932,
206.49014089539983,
205.58160305263348
],
"stdvValues": [
95.76895076683132,
95.69516288760052,
96.37349280321983
],
"serviceProperties": "NorthWest<\/MosaicMethod>First<\/MosaicOperator>true<\/SortAscending><\/LockImageID>Name<\/TileOrderField>0<\/TileOrderBase>600,000000<\/AvgImageSpacingX>300,000000<\/AvgImageSpacingY>0.0<\/ViewPointX>0.0<\/ViewPointY>0.0<\/ViewPointDefShiftX>0.0<\/ViewPointDefShiftY>None<\/CompressionMethod>75<\/CompressionQuality>0,010000<\/CompressionTolerance>Bilinear<\/SamplingMethod><\/ImageServiceProperties><\/ImageServer>",
"allowedFields": "Name,MinPS,MaxPS,LowPS,HighPS,Tag,GroupName,ProductName,CenterX,CenterY,ZOrder",
"hasMultidimensions": false,
"pixelSizeX": 0.25,
"pixelSizeY": 0.25,
"meanPixelSize": 0.25,
"datasetFormat": "AMD",
"uncompressedSize": 40903058700,
"blockWidth": 2048,
"blockHeight": 256,
"compressionType": "None",
"bandNames": [
"Band_1",
"Band_2",
"Band_3"
],
"allowCopy": true,
"allowAnalysis": true,
"itemAccess": false,
"inspectionCapabilities": "",
"minPixelSize": 1.3229193125052918,
"maxPixelSize": 198.43789687579377,
"copyrightText": "",
"serviceDataType": "esriImageServiceDataTypeProcessed",
"serviceSourceType": "esriImageServiceSourceTypeMosaicDataset",
"objectIdField": "OBJECTID",
"fields": [
{
"name": "OBJECTID",
"type": "esriFieldTypeOID",
"alias": "OBJECTID",
"domain": null
},
{
"name": "NAME",
"type": "esriFieldTypeString",
"alias": "Name",
"domain": null,
"length": 200
},
{
"name": "MINPS",
"type": "esriFieldTypeDouble",
"alias": "MinPS",
"domain": null
},
{
"name": "MAXPS",
"type": "esriFieldTypeDouble",
"alias": "MaxPS",
"domain": null
},
{
"name": "LOWPS",
"type": "esriFieldTypeDouble",
"alias": "LowPS",
"domain": null
},
{
"name": "HIGHPS",
"type": "esriFieldTypeDouble",
"alias": "HighPS",
"domain": null
},
{
"name": "CATEGORY",
"type": "esriFieldTypeInteger",
"alias": "Category",
"domain": {
"type": "codedValue",
"name": "MosaicCatalogItemCategoryDomain",
"description": "Catalog item categories.",
"codedValues": [
{
"name": "Unknown",
"code": 0
},
{
"name": "Primary",
"code": 1
},
{
"name": "Overview",
"code": 2
},
{
"name": "Unprocessed Overview",
"code": 3
},
{
"name": "Partial Overview",
"code": 4
},
{
"name": "Inactive",
"code": 5
},
{
"name": "Uploaded",
"code": 253
},
{
"name": "Incomplete",
"code": 254
},
{
"name": "Custom",
"code": 255
}
],
"mergePolicy": "esriMPTDefaultValue",
"splitPolicy": "esriSPTDefaultValue"
}
},
{
"name": "TAG",
"type": "esriFieldTypeString",
"alias": "Tag",
"domain": null,
"length": 100
},
{
"name": "GROUPNAME",
"type": "esriFieldTypeString",
"alias": "GroupName",
"domain": null,
"length": 100
},
{
"name": "PRODUCTNAME",
"type": "esriFieldTypeString",
"alias": "ProductName",
"domain": null,
"length": 100
},
{
"name": "CENTERX",
"type": "esriFieldTypeDouble",
"alias": "CenterX",
"domain": null
},
{
"name": "CENTERY",
"type": "esriFieldTypeDouble",
"alias": "CenterY",
"domain": null
},
{
"name": "ZORDER",
"type": "esriFieldTypeInteger",
"alias": "ZOrder",
"domain": null
},
{
"name": "SHAPE",
"type": "esriFieldTypeGeometry",
"alias": "Shape",
"domain": null
}
],
"capabilities": "Image,Metadata,Catalog,Mensuration",
"defaultMosaicMethod": "Northwest",
"allowedMosaicMethods": "NorthWest,Center,LockRaster,ByAttribute,Nadir,Viewpoint,Seamline,None",
"sortField": "",
"sortValue": null,
"sortAscending": true,
"mosaicOperator": "First",
"maxDownloadSizeLimit": 2048,
"defaultCompressionQuality": 75,
"defaultResamplingMethod": "Bilinear",
"maxImageHeight": 4100,
"maxImageWidth": 15000,
"maxRecordCount": 1000,
"maxDownloadImageCount": 20,
"maxMosaicImageCount": 20,
"singleFusedMapCache": true,
"tileInfo": {
"rows": 512,
"cols": 512,
"dpi": 96,
"format": "PNG24",
"compressionQuality": 0,
"origin": {
"x": -33699800,
"y": 33699800
},
"spatialReference": {
"wkid": 102067,
"latestWkid": 5514
},
"lods": [
{
"level": 0,
"resolution": 198.43789687579377,
"scale": 750000
},
{
"level": 1,
"resolution": 132.2919312505292,
"scale": 500000
},
{
"level": 2,
"resolution": 92.60435187537043,
"scale": 350000
},
{
"level": 3,
"resolution": 52.91677250021167,
"scale": 200000
},
{
"level": 4,
"resolution": 39.687579375158755,
"scale": 150000
},
{
"level": 5,
"resolution": 26.458386250105836,
"scale": 100000
},
{
"level": 6,
"resolution": 19.843789687579378,
"scale": 75000
},
{
"level": 7,
"resolution": 13.229193125052918,
"scale": 50000
},
{
"level": 8,
"resolution": 6.614596562526459,
"scale": 25000
},
{
"level": 9,
"resolution": 5.291677250021167,
"scale": 20000
},
{
"level": 10,
"resolution": 3.9687579375158752,
"scale": 15000
},
{
"level": 11,
"resolution": 2.6458386250105836,
"scale": 10000
},
{
"level": 12,
"resolution": 1.9843789687579376,
"scale": 7500
},
{
"level": 13,
"resolution": 1.3229193125052918,
"scale": 5000
}
]
},
"storageInfo": {
"storageFormat": "esriMapCacheStorageModeCompact",
"packetSize": 128
},
"cacheType": "Map",
"allowRasterFunction": true,
"rasterFunctionInfos": [
{
"name": "None",
"description": "Make a Raster or Raster Dataset into a Function Raster Dataset.",
"help": ""
}
],
"rasterTypeInfos": [
{
"name": "Raster Dataset",
"description": "Supports all ArcGIS Raster Datasets",
"help": ""
}
],
"mensurationCapabilities": "NONE",
"hasHistograms": true,
"hasColormap": false,
"hasRasterAttributeTable": false,
"minScale": 750000,
"maxScale": 5000,
"exportTilesAllowed": false,
"supportsStatistics": true,
"supportsAdvancedQueries": true,
"editFieldsInfo": null,
"ownershipBasedAccessControlForRasters": null,
"allowComputeTiePoints": false,
"useStandardizedQueries": true,
"advancedQueryCapabilities": {
"useStandardizedQueries": true,
"supportsStatistics": true,
"supportsOrderBy": true,
"supportsDistinct": true,
"supportsPagination": true
},
"spatialReference": {
"wkid": 102067,
"latestWkid": 5514
}
}