{ "currentVersion": 10.91, "serviceDescription": "

Klasifikovaný rastr vznikl výpočtem z digitálního modelu zástavby a digitálního modelu terénu. Zobrazuje relativní výšky budov (mostů), to je jejich výšku nad terénem.<\/SPAN><\/P><\/DIV><\/DIV><\/DIV>", "name": "d3m/relativni_vysky_budov", "description": "

Klasifikovaný rastr vznikl výpočtem z digitálního modelu zástavby a digitálního modelu terénu. Zobrazuje relativní výšky budov (mostů), to je jejich výšku nad terénem.<\/SPAN><\/P><\/DIV><\/DIV><\/DIV>", "extent": { "xmin": -757500.7777777761, "ymin": -1059999.888888888, "xmax": -719999.7777777761, "ymax": -1031999.8888888881, "spatialReference": { "wkid": 102067, "latestWkid": 5514 } }, "initialExtent": { "xmin": -757500.7777777761, "ymin": -1059999.888888888, "xmax": -719999.7777777761, "ymax": -1031999.8888888881, "spatialReference": { "wkid": 102067, "latestWkid": 5514 } }, "fullExtent": { "xmin": -757500.7777777761, "ymin": -1059999.888888888, "xmax": -719999.7777777761, "ymax": -1031999.8888888881, "spatialReference": { "wkid": 102067, "latestWkid": 5514 } }, "pixelSizeX": 1, "pixelSizeY": 1, "bandCount": 1, "pixelType": "F32", "minPixelSize": 0, "maxPixelSize": 0, "copyrightText": "", "serviceDataType": "esriImageServiceDataTypeGeneric", "minValues": [ -3.9998931884765625 ], "maxValues": [ 221.7120819091797 ], "meanValues": [ 11.261928130416171 ], "stdvValues": [ 7.997653344768272 ], "objectIdField": "OBJECTID", "fields": [ { "name": "OBJECTID", "type": "esriFieldTypeOID", "alias": "OBJECTID", "domain": null }, { "name": "NAME", "type": "esriFieldTypeString", "alias": "NAME", "domain": null, "length": 200 }, { "name": "MINPS", "type": "esriFieldTypeDouble", "alias": "MINPS", "domain": null }, { "name": "MAXPS", "type": "esriFieldTypeDouble", "alias": "MAXPS", "domain": null }, { "name": "LOWPS", "type": "esriFieldTypeDouble", "alias": "LOWPS", "domain": null }, { "name": "HIGHPS", "type": "esriFieldTypeDouble", "alias": "HIGHPS", "domain": null }, { "name": "CATEGORY", "type": "esriFieldTypeInteger", "alias": "CATEGORY", "domain": { "type": "codedValue", "name": "MosaicCatalogItemCategoryDomain", "description": "Catalog item categories.", "codedValues": [ { "name": "Unknown", "code": 0 }, { "name": "Primary", "code": 1 }, { "name": "Overview", "code": 2 }, { "name": "Unprocessed Overview", "code": 3 }, { "name": "Partial Overview", "code": 4 }, { "name": "Inactive", "code": 5 }, { "name": "Uploaded", "code": 253 }, { "name": "Incomplete", "code": 254 }, { "name": "Custom", "code": 255 } ], "mergePolicy": "esriMPTDefaultValue", "splitPolicy": "esriSPTDefaultValue" } }, { "name": "TAG", "type": "esriFieldTypeString", "alias": "TAG", "domain": null, "length": 100 }, { "name": "GROUPNAME", "type": "esriFieldTypeString", "alias": "GROUPNAME", "domain": null, "length": 100 }, { "name": "PRODUCTNAME", "type": "esriFieldTypeString", "alias": "PRODUCTNAME", "domain": null, "length": 100 }, { "name": "CENTERX", "type": "esriFieldTypeDouble", "alias": "CENTERX", "domain": null }, { "name": "CENTERY", "type": "esriFieldTypeDouble", "alias": "CENTERY", "domain": null }, { "name": "ZORDER", "type": "esriFieldTypeInteger", "alias": "ZORDER", "domain": null }, { "name": "SHAPE", "type": "esriFieldTypeGeometry", "alias": "SHAPE", "domain": null } ], "capabilities": "Image,Metadata,Catalog", "defaultMosaicMethod": "Northwest", "allowedMosaicMethods": "NorthWest,Center,LockRaster,ByAttribute,Nadir,Viewpoint,Seamline,None", "sortField": "", "sortValue": null, "sortAscending": true, "mosaicOperator": "First", "maxDownloadSizeLimit": 2048, "defaultCompressionQuality": 75, "defaultResamplingMethod": "Bilinear", "maxImageHeight": 4100, "maxImageWidth": 15000, "maxRecordCount": 1000, "maxDownloadImageCount": 20, "maxMosaicImageCount": 20, "allowRasterFunction": true, "rasterFunctionInfos": [ { "name": "None", "description": "A No-Op Function.", "help": "" } ], "rasterTypeInfos": [ { "name": "Raster Dataset", "description": "Supports all ArcGIS Raster Datasets", "help": "" } ], "mensurationCapabilities": "None", "hasHistograms": true, "hasColormap": false, "hasRasterAttributeTable": false, "minScale": 0, "maxScale": 0, "exportTilesAllowed": false, "hasMultidimensions": false, "supportsStatistics": true, "supportsAdvancedQueries": true, "editFieldsInfo": null, "ownershipBasedAccessControlForRasters": null, "allowComputeTiePoints": false, "useStandardizedQueries": true, "advancedQueryCapabilities": { "useStandardizedQueries": true, "supportsStatistics": true, "supportsOrderBy": true, "supportsDistinct": true, "supportsPagination": true }, "spatialReference": { "wkid": 102067, "latestWkid": 5514 } }