{
 "currentVersion": 10.91,
 "serviceDescription": "První přesně měřený plán historických pražských měst a Smíchova v měřítku 1:1728 v roce 1791 dokončil matematik, inženýr a profesor Stavovské inženýrské školy František Antonín Leonard Herget (1741\u20131800). Na tomto plánu jsou již domy označeny čísly popisnými tzv. prvého číslování z roku 1770 (pražské domy byly opět přečíslovány v r. 1805; AMP). V zobrazení jsou zachyceny významné budovy se zahradami a vodotečemi, u ostatní zástavby většinou jen uliční situace. Kvalita zaměření a pečlivost zákresu detailů v plánu je v jednotlivých čtvrtích proměnlivá. Prostorově výrazně deformovaný plán byl pro zobrazení v aplikaci rektifikován nad podkladem originální mapy stabilního katastru (1842); pro původní podobu plánu viz zobrazení Archivním katalogu AHMP. Plán je uložen v Archivu hl. m. Prahy, sign. MAP P 1 B/1.",
 "name": "arch/plan_herget_1791",
 "description": "První přesně měřený plán historických pražských měst a Smíchova v měřítku 1:1728 v roce 1791 dokončil matematik, inženýr a profesor Stavovské inženýrské školy František Antonín Leonard Herget (1741\u20131800). Na tomto plánu jsou již domy označeny čísly popisnými tzv. prvého číslování z roku 1770 (pražské domy byly opět přečíslovány v r. 1805; AMP). V zobrazení jsou zachyceny významné budovy se zahradami a vodotečemi, u ostatní zástavby většinou jen uliční situace. Kvalita zaměření a pečlivost zákresu detailů v plánu je v jednotlivých čtvrtích proměnlivá. Prostorově výrazně deformovaný plán byl pro zobrazení v aplikaci rektifikován nad podkladem originální mapy stabilního katastru (1842); pro původní podobu plánu viz zobrazení Archivním katalogu AHMP. Plán je uložen v Archivu hl. m. Prahy, sign. MAP P 1 B/1.",
 "extent": {
  "xmin": -745454.5549124008,
  "ymin": -1046480.1623997058,
  "xmax": -741297.4957982408,
  "ymax": -1041790.5098008459,
  "spatialReference": {
   "wkid": 102067,
   "latestWkid": 5514
  }
 },
 "initialExtent": {
  "xmin": -745454.5549124008,
  "ymin": -1046480.1623997058,
  "xmax": -741297.4957982408,
  "ymax": -1041790.5098008459,
  "spatialReference": {
   "wkid": 102067,
   "latestWkid": 5514
  }
 },
 "fullExtent": {
  "xmin": -745454.5549124008,
  "ymin": -1046480.1623997058,
  "xmax": -741297.4957982408,
  "ymax": -1041790.5098008459,
  "spatialReference": {
   "wkid": 102067,
   "latestWkid": 5514
  }
 },
 "pixelSizeX": 0.11319734000000044,
 "pixelSizeY": 0.1131973399999994,
 "bandCount": 4,
 "pixelType": "U8",
 "minPixelSize": 0.07464553541190416,
 "maxPixelSize": 1222.992452562495,
 "copyrightText": "",
 "serviceDataType": "esriImageServiceDataTypeGeneric",
 "minValues": [
  0,
  0,
  0,
  0
 ],
 "maxValues": [
  255,
  255,
  255,
  255
 ],
 "meanValues": [
  223.0212091341989,
  210.70520036053873,
  187.36888869242884,
  146.97358032913493
 ],
 "stdvValues": [
  36.92829577807234,
  42.54820671953663,
  57.16212918967053,
  125.98988912037518
 ],
 "objectIdField": "OBJECTID",
 "fields": [
  {
   "name": "OBJECTID",
   "type": "esriFieldTypeOID",
   "alias": "OBJECTID",
   "domain": null
  },
  {
   "name": "NAME",
   "type": "esriFieldTypeString",
   "alias": "Name",
   "domain": null,
   "length": 200
  },
  {
   "name": "MINPS",
   "type": "esriFieldTypeDouble",
   "alias": "MinPS",
   "domain": null
  },
  {
   "name": "MAXPS",
   "type": "esriFieldTypeDouble",
   "alias": "MaxPS",
   "domain": null
  },
  {
   "name": "LOWPS",
   "type": "esriFieldTypeDouble",
   "alias": "LowPS",
   "domain": null
  },
  {
   "name": "HIGHPS",
   "type": "esriFieldTypeDouble",
   "alias": "HighPS",
   "domain": null
  },
  {
   "name": "CATEGORY",
   "type": "esriFieldTypeInteger",
   "alias": "Category",
   "domain": {
    "type": "codedValue",
    "name": "MosaicCatalogItemCategoryDomain",
    "description": "Catalog item categories.",
    "codedValues": [
     {
      "name": "Unknown",
      "code": 0
     },
     {
      "name": "Primary",
      "code": 1
     },
     {
      "name": "Overview",
      "code": 2
     },
     {
      "name": "Unprocessed Overview",
      "code": 3
     },
     {
      "name": "Partial Overview",
      "code": 4
     },
     {
      "name": "Inactive",
      "code": 5
     },
     {
      "name": "Uploaded",
      "code": 253
     },
     {
      "name": "Incomplete",
      "code": 254
     },
     {
      "name": "Custom",
      "code": 255
     }
    ],
    "mergePolicy": "esriMPTDefaultValue",
    "splitPolicy": "esriSPTDefaultValue"
   }
  },
  {
   "name": "TAG",
   "type": "esriFieldTypeString",
   "alias": "Tag",
   "domain": null,
   "length": 100
  },
  {
   "name": "GROUPNAME",
   "type": "esriFieldTypeString",
   "alias": "GroupName",
   "domain": null,
   "length": 100
  },
  {
   "name": "PRODUCTNAME",
   "type": "esriFieldTypeString",
   "alias": "ProductName",
   "domain": null,
   "length": 100
  },
  {
   "name": "CENTERX",
   "type": "esriFieldTypeDouble",
   "alias": "CenterX",
   "domain": null
  },
  {
   "name": "CENTERY",
   "type": "esriFieldTypeDouble",
   "alias": "CenterY",
   "domain": null
  },
  {
   "name": "ZORDER",
   "type": "esriFieldTypeInteger",
   "alias": "ZOrder",
   "domain": null
  },
  {
   "name": "SHAPE",
   "type": "esriFieldTypeGeometry",
   "alias": "Shape",
   "domain": null
  }
 ],
 "capabilities": "Image,Metadata,Catalog",
 "defaultMosaicMethod": "Center",
 "allowedMosaicMethods": "Center,NorthWest,LockRaster,ByAttribute,Nadir,Viewpoint,Seamline,None",
 "sortField": "",
 "sortValue": null,
 "sortAscending": true,
 "mosaicOperator": "First",
 "maxDownloadSizeLimit": 2048,
 "defaultCompressionQuality": 75,
 "defaultResamplingMethod": "Bilinear",
 "maxImageHeight": 4100,
 "maxImageWidth": 15000,
 "maxRecordCount": 1000,
 "maxDownloadImageCount": 20,
 "maxMosaicImageCount": 20,
 "singleFusedMapCache": true,
 "tileInfo": {
  "rows": 512,
  "cols": 512,
  "dpi": 96,
  "format": "MIXED",
  "compressionQuality": 75,
  "origin": {
   "x": -33699800,
   "y": 33699800
  },
  "spatialReference": {
   "wkid": 102067,
   "latestWkid": 5514
  },
  "lods": [
   {
    "level": 0,
    "resolution": 198.43789687579377,
    "scale": 750000
   },
   {
    "level": 1,
    "resolution": 132.2919312505292,
    "scale": 500000
   },
   {
    "level": 2,
    "resolution": 92.60435187537043,
    "scale": 350000
   },
   {
    "level": 3,
    "resolution": 52.91677250021167,
    "scale": 200000
   },
   {
    "level": 4,
    "resolution": 39.687579375158755,
    "scale": 150000
   },
   {
    "level": 5,
    "resolution": 26.458386250105836,
    "scale": 100000
   },
   {
    "level": 6,
    "resolution": 19.843789687579378,
    "scale": 75000
   },
   {
    "level": 7,
    "resolution": 13.229193125052918,
    "scale": 50000
   },
   {
    "level": 8,
    "resolution": 6.614596562526459,
    "scale": 25000
   },
   {
    "level": 9,
    "resolution": 5.291677250021167,
    "scale": 20000
   },
   {
    "level": 10,
    "resolution": 3.9687579375158752,
    "scale": 15000
   },
   {
    "level": 11,
    "resolution": 2.6458386250105836,
    "scale": 10000
   },
   {
    "level": 12,
    "resolution": 1.9843789687579376,
    "scale": 7500
   },
   {
    "level": 13,
    "resolution": 1.3229193125052918,
    "scale": 5000
   },
   {
    "level": 14,
    "resolution": 0.9260435187537043,
    "scale": 3500
   },
   {
    "level": 15,
    "resolution": 0.5291677250021167,
    "scale": 2000
   },
   {
    "level": 16,
    "resolution": 0.39687579375158755,
    "scale": 1500
   },
   {
    "level": 17,
    "resolution": 0.26458386250105836,
    "scale": 1000
   },
   {
    "level": 18,
    "resolution": 0.19843789687579377,
    "scale": 750
   },
   {
    "level": 19,
    "resolution": 0.13229193125052918,
    "scale": 500
   }
  ]
 },
 "cacheType": "Map",
 "allowRasterFunction": true,
 "rasterFunctionInfos": [
  {
   "name": "None",
   "description": "A No-Op Function.",
   "help": ""
  }
 ],
 "rasterTypeInfos": [
  {
   "name": "Raster Dataset",
   "description": "Supports all ArcGIS Raster Datasets",
   "help": ""
  }
 ],
 "mensurationCapabilities": "NONE",
 "hasHistograms": true,
 "hasColormap": false,
 "hasRasterAttributeTable": false,
 "minScale": 4622324.434309,
 "maxScale": 282.124294,
 "exportTilesAllowed": false,
 "hasMultidimensions": false,
 "supportsStatistics": true,
 "supportsAdvancedQueries": true,
 "editFieldsInfo": null,
 "ownershipBasedAccessControlForRasters": null,
 "allowComputeTiePoints": false,
 "useStandardizedQueries": true,
 "advancedQueryCapabilities": {
  "useStandardizedQueries": true,
  "supportsStatistics": true,
  "supportsOrderBy": true,
  "supportsDistinct": true,
  "supportsPagination": true
 },
 "spatialReference": {
  "wkid": 102067,
  "latestWkid": 5514
 }
}
