View In:
ArcGIS JavaScript
ArcGIS Online Map Viewer
ArcGIS Earth
ArcMap
View Footprint In:
ArcGIS Online Map Viewer
Service Description: První přesně měřený plán historických pražských měst a Smíchova v měřítku 1:1728 v roce 1791 dokončil matematik, inženýr a profesor Stavovské inženýrské školy František Antonín Leonard Herget (1741–1800). Na tomto plánu jsou již domy označeny čísly popisnými tzv. prvého číslování z roku 1770 (pražské domy byly opět přečíslovány v r. 1805; AMP). V zobrazení jsou zachyceny významné budovy se zahradami a vodotečemi, u ostatní zástavby většinou jen uliční situace. Kvalita zaměření a pečlivost zákresu detailů v plánu je v jednotlivých čtvrtích proměnlivá. Prostorově výrazně deformovaný plán byl pro zobrazení v aplikaci rektifikován nad podkladem originální mapy stabilního katastru (1842); pro původní podobu plánu viz zobrazení Archivním katalogu AHMP. Plán je uložen v Archivu hl. m. Prahy, sign. MAP P 1 B/1.
Name: arch/plan_herget_1791
Description: První přesně měřený plán historických pražských měst a Smíchova v měřítku 1:1728 v roce 1791 dokončil matematik, inženýr a profesor Stavovské inženýrské školy František Antonín Leonard Herget (1741–1800). Na tomto plánu jsou již domy označeny čísly popisnými tzv. prvého číslování z roku 1770 (pražské domy byly opět přečíslovány v r. 1805; AMP). V zobrazení jsou zachyceny významné budovy se zahradami a vodotečemi, u ostatní zástavby většinou jen uliční situace. Kvalita zaměření a pečlivost zákresu detailů v plánu je v jednotlivých čtvrtích proměnlivá. Prostorově výrazně deformovaný plán byl pro zobrazení v aplikaci rektifikován nad podkladem originální mapy stabilního katastru (1842); pro původní podobu plánu viz zobrazení Archivním katalogu AHMP. Plán je uložen v Archivu hl. m. Prahy, sign. MAP P 1 B/1.
Single Fused Map Cache: true
Tile Info:
- Height: 512
- Width: 512
- DPI: 96
-
Levels of Detail: 20
- Format: MIXED
- Compression Quality: 75.0
- LERC Error: NaN
- Origin: X: -3.36998E7
Y: 3.36998E7
- Spatial Reference: 102067
(5514)
Extent:
XMin: -745454.5549124008
YMin: -1046480.1623997058
XMax: -741297.4957982408
YMax: -1041790.5098008459
Spatial Reference: 102067
(5514)
Initial Extent:
XMin: -745454.5549124008
YMin: -1046480.1623997058
XMax: -741297.4957982408
YMax: -1041790.5098008459
Spatial Reference: 102067
(5514)
Full Extent:
XMin: -745454.5549124008
YMin: -1046480.1623997058
XMax: -741297.4957982408
YMax: -1041790.5098008459
Spatial Reference: 102067
(5514)
Pixel Size X: 0.11319734000000044
Pixel Size Y: 0.1131973399999994
Band Count: 4
Pixel Type: U8
RasterFunction Infos: {"rasterFunctionInfos": [{
"name": "None",
"description": "A No-Op Function.",
"help": ""
}]}
Mensuration Capabilities: NONE
Has Histograms: true
Has Colormap: false
Has Multi Dimensions : false
Rendering Rule:
Min Scale: 4622324.434309
Max Scale: 282.124294
Copyright Text:
Service Data Type: esriImageServiceDataTypeGeneric
Min Values: 0, 0, 0, 0
Max Values: 255, 255, 255, 255
Mean Values: 223.0212091341989, 210.70520036053873, 187.36888869242884, 146.97358032913493
Standard Deviation Values: 36.92829577807234, 42.54820671953663, 57.16212918967053, 125.98988912037518
Object ID Field: OBJECTID
Fields:
-
OBJECTID
(
type: esriFieldTypeOID, alias: OBJECTID
)
-
NAME
(
type: esriFieldTypeString, alias: Name, length: 200
)
-
MINPS
(
type: esriFieldTypeDouble, alias: MinPS
)
-
MAXPS
(
type: esriFieldTypeDouble, alias: MaxPS
)
-
LOWPS
(
type: esriFieldTypeDouble, alias: LowPS
)
-
HIGHPS
(
type: esriFieldTypeDouble, alias: HighPS
)
-
CATEGORY
(
type: esriFieldTypeInteger, alias: Category
,
Coded Values:
[0: Unknown]
,
[1: Primary]
,
[2: Overview]
, ...6 more...
)
-
TAG
(
type: esriFieldTypeString, alias: Tag, length: 100
)
-
GROUPNAME
(
type: esriFieldTypeString, alias: GroupName, length: 100
)
-
PRODUCTNAME
(
type: esriFieldTypeString, alias: ProductName, length: 100
)
-
CENTERX
(
type: esriFieldTypeDouble, alias: CenterX
)
-
CENTERY
(
type: esriFieldTypeDouble, alias: CenterY
)
-
ZORDER
(
type: esriFieldTypeInteger, alias: ZOrder
)
-
SHAPE
(
type: esriFieldTypeGeometry, alias: Shape
)
Default Mosaic Method: Center
Allowed Mosaic Methods: Center,NorthWest,LockRaster,ByAttribute,Nadir,Viewpoint,Seamline,None
SortField:
SortValue: null
Mosaic Operator: First
Default Compression Quality: 75
Default Resampling Method: Bilinear
Max Record Count: 1000
Max Image Height: 4100
Max Image Width: 15000
Max Download Image Count: 20
Max Mosaic Image Count: 20
Allow Raster Function: true
Allow Copy: null
Allow Analysis: null
Allow Compute TiePoints: false
Supports Statistics: true
Supports Advanced Queries: true
Use StandardizedQueries: true
Raster Type Infos:
Name: Raster Dataset
Description: Supports all ArcGIS Raster Datasets
Help:
Has Raster Attribute Table: false
Edit Fields Info: null
Ownership Based AccessControl For Rasters: null
Child Resources:
Info
Histograms
Key Properties
Legend
Raster Function Infos
Supported Operations:
Export Image
Query
Identify
Compute Histograms
Compute Statistics Histograms
Get Samples
Compute Class Statistics
Query Boundary
Compute Pixel Location
Compute Angles
Validate
Project