{
 "currentVersion": 10.91,
 "serviceDescription": "Zakladni mapa MTVU - cernobila - cache",
 "mapName": "Layers",
 "description": "",
 "copyrightText": "",
 "supportsDynamicLayers": true,
 "layers": [
  {
   "id": 0,
   "name": "Layers",
   "parentLayerId": -1,
   "defaultVisibility": true,
   "subLayerIds": null,
   "minScale": 0,
   "maxScale": 0,
   "type": "Raster Layer"
  }
 ],
 "tables": [],
 "spatialReference": {
  "wkid": 102067,
  "latestWkid": 5514
 },
 "singleFusedMapCache": true,
 "tileInfo": {
  "rows": 512,
  "cols": 512,
  "dpi": 96,
  "format": "PNG24",
  "compressionQuality": 0,
  "origin": {
   "x": -33699800,
   "y": 33699800
  },
  "spatialReference": {
   "wkid": 102067,
   "latestWkid": 5514
  },
  "lods": [
   {
    "level": 0,
    "resolution": 198.43789687579377,
    "scale": 750000
   },
   {
    "level": 1,
    "resolution": 132.2919312505292,
    "scale": 500000
   },
   {
    "level": 2,
    "resolution": 92.60435187537043,
    "scale": 350000
   },
   {
    "level": 3,
    "resolution": 52.91677250021167,
    "scale": 200000
   },
   {
    "level": 4,
    "resolution": 39.687579375158755,
    "scale": 150000
   },
   {
    "level": 5,
    "resolution": 26.458386250105836,
    "scale": 100000
   },
   {
    "level": 6,
    "resolution": 19.843789687579378,
    "scale": 75000
   },
   {
    "level": 7,
    "resolution": 13.229193125052918,
    "scale": 50000
   },
   {
    "level": 8,
    "resolution": 6.614596562526459,
    "scale": 25000
   },
   {
    "level": 9,
    "resolution": 5.291677250021167,
    "scale": 20000
   },
   {
    "level": 10,
    "resolution": 3.9687579375158752,
    "scale": 15000
   },
   {
    "level": 11,
    "resolution": 2.6458386250105836,
    "scale": 10000
   },
   {
    "level": 12,
    "resolution": 1.9843789687579376,
    "scale": 7500
   },
   {
    "level": 13,
    "resolution": 1.3229193125052918,
    "scale": 5000
   },
   {
    "level": 14,
    "resolution": 0.9260435187537043,
    "scale": 3500
   },
   {
    "level": 15,
    "resolution": 0.5291677250021167,
    "scale": 2000
   },
   {
    "level": 16,
    "resolution": 0.39687579375158755,
    "scale": 1500
   },
   {
    "level": 17,
    "resolution": 0.26458386250105836,
    "scale": 1000
   },
   {
    "level": 18,
    "resolution": 0.19843789687579377,
    "scale": 750
   },
   {
    "level": 19,
    "resolution": 0.13229193125052918,
    "scale": 500
   },
   {
    "level": 20,
    "resolution": 0.05291677250021167,
    "scale": 200
   }
  ]
 },
 "initialExtent": {
  "xmin": -837287.5645584599,
  "ymin": -1124455.593302857,
  "xmax": -641247.3266446508,
  "ymax": -973966.3777410922,
  "spatialReference": {
   "wkid": 102067,
   "latestWkid": 5514
  }
 },
 "fullExtent": {
  "xmin": -863130.6874947064,
  "ymin": -1141662.4079248188,
  "xmax": -615281.7542968399,
  "ymax": -956916.7259334549,
  "spatialReference": {
   "wkid": 102067,
   "latestWkid": 5514
  }
 },
 "minScale": 750000,
 "maxScale": 200,
 "units": "esriMeters",
 "supportedImageFormatTypes": "PNG32,PNG24,PNG,JPG,DIB,TIFF,EMF,PS,PDF,GIF,SVG,SVGZ,BMP",
 "documentInfo": {
  "Title": "Zakladni mapa",
  "Author": "Mensova",
  "Comments": "Zakladni mapa MTVU - cache",
  "Subject": "Zakladni mapa MTVU - cache",
  "Category": "",
  "AntialiasingMode": "None",
  "TextAntialiasingMode": "Force",
  "Keywords": "DTMP"
 },
 "capabilities": "Map,Query,Data",
 "supportedQueryFormats": "JSON, geoJSON",
 "exportTilesAllowed": false,
 "referenceScale": 0,
 "datumTransformations": [
  {
   "geoTransforms": [
    {
     "wkid": 108001,
     "latestWkid": 1241,
     "transformForward": true,
     "name": "NAD_1927_To_NAD_1983_NADCON"
    }
   ]
  },
  {
   "geoTransforms": [
    {
     "wkid": 108001,
     "latestWkid": 1241,
     "transformForward": false,
     "name": "NAD_1927_To_NAD_1983_NADCON"
    }
   ]
  },
  {
   "geoTransforms": [
    {
     "wkid": 1623,
     "latestWkid": 1623,
     "transformForward": true,
     "name": "S_JTSK_To_WGS_1984_1"
    }
   ]
  },
  {
   "geoTransforms": [
    {
     "wkid": 1623,
     "latestWkid": 1623,
     "transformForward": false,
     "name": "S_JTSK_To_WGS_1984_1"
    }
   ]
  }
 ],
 "supportsDatumTransformation": true,
 "maxRecordCount": 1000,
 "maxImageHeight": 4096,
 "maxImageWidth": 4096,
 "supportedExtensions": "WMSServer"
}
